git_url: https://git.bioconductor.org/packages/aCGH git_branch: RELEASE_3_13 git_last_commit: e412576 git_last_commit_date: 2021-05-19 11:34:31 -0400 (Wed, 19 May 2021) Package: aCGH Version: 1.70.0 Maintainer: Peter Dimitrov MaintainerEmail: dimitrov at stat.Berkeley.EDU