Package: aCGH Version: 1.70.0 Command: /home/biocbuild/bbs-3.13-bioc/R/bin/R CMD build --keep-empty-dirs --no-resave-data aCGH StartedAt: 2021-10-14 06:40:21 -0400 (Thu, 14 Oct 2021) EndedAt: 2021-10-14 06:40:48 -0400 (Thu, 14 Oct 2021) EllapsedTime: 26.2 seconds RetCode: 0 Status: OK PackageFile: aCGH_1.70.0.tar.gz PackageFileSize: 2.114 MiB