Package: aCGH Version: 1.70.0 Command: /home/biocbuild/bbs-3.13-bioc/R/bin/R CMD check --install=check:aCGH.install-out.txt --library=/home/biocbuild/bbs-3.13-bioc/R/library --no-vignettes --timings aCGH_1.70.0.tar.gz StartedAt: 2021-10-14 08:49:31 -0400 (Thu, 14 Oct 2021) EndedAt: 2021-10-14 08:50:35 -0400 (Thu, 14 Oct 2021) EllapsedTime: 63.7 seconds RetCode: 0 Status: OK CheckDir: aCGH.Rcheck Warnings: 0