git_url: https://git.bioconductor.org/packages/abseqR git_branch: RELEASE_3_13 git_last_commit: 9ad3c88 git_last_commit_date: 2021-05-19 12:39:19 -0400 (Wed, 19 May 2021) Package: abseqR Version: 1.10.0 Maintainer: JiaHong Fong MaintainerEmail: jiahfong at gmail.com