git_url: https://git.bioconductor.org/packages/affxparser git_branch: RELEASE_3_13 git_last_commit: 7863cf7 git_last_commit_date: 2021-09-09 07:03:16 -0400 (Thu, 09 Sep 2021) Package: affxparser Version: 1.64.1 Maintainer: Kasper Daniel Hansen MaintainerEmail: kasperdanielhansen at gmail.com