Package: affxparser Version: 1.64.1 Command: /Library/Frameworks/R.framework/Versions/Current/Resources/bin/R CMD check --install=check:affxparser.install-out.txt --library=/Library/Frameworks/R.framework/Versions/Current/Resources/library --no-vignettes --timings affxparser_1.64.1.tar.gz StartedAt: 2021-10-14 16:07:06 -0400 (Thu, 14 Oct 2021) EndedAt: 2021-10-14 16:08:20 -0400 (Thu, 14 Oct 2021) EllapsedTime: 73.9 seconds RetCode: 0 Status: WARNINGS CheckDir: affxparser.Rcheck Warnings: 1