Package: affxparser Version: 1.64.1 Command: /Library/Frameworks/R.framework/Versions/Current/Resources/bin/R CMD INSTALL affxparser StartedAt: 2021-10-14 08:18:56 -0400 (Thu, 14 Oct 2021) EndedAt: 2021-10-14 08:20:54 -0400 (Thu, 14 Oct 2021) EllapsedTime: 118.4 seconds RetCode: 0 Status: OK