Package: affxparser Version: 1.64.1 Command: chmod a+r affxparser -R && C:\Users\biocbuild\bbs-3.13-bioc\R\bin\R.exe CMD build --keep-empty-dirs --no-resave-data affxparser StartedAt: 2021-10-14 11:34:01 -0400 (Thu, 14 Oct 2021) EndedAt: 2021-10-14 11:34:54 -0400 (Thu, 14 Oct 2021) EllapsedTime: 53.1 seconds RetCode: 0 Status: OK PackageFile: affxparser_1.64.1.tar.gz PackageFileSize: 794.5 KiB