Package: affxparser Version: 1.64.1 Command: C:\Users\biocbuild\bbs-3.13-bioc\R\bin\R.exe CMD check --force-multiarch --install=check:affxparser.install-out.txt --library=C:\Users\biocbuild\bbs-3.13-bioc\R\library --no-vignettes --timings affxparser_1.64.1.tar.gz StartedAt: 2021-10-14 19:21:54 -0400 (Thu, 14 Oct 2021) EndedAt: 2021-10-14 19:24:44 -0400 (Thu, 14 Oct 2021) EllapsedTime: 169.2 seconds RetCode: 0 Status: WARNINGS CheckDir: affxparser.Rcheck Warnings: 1