Package: affyQCReport Version: 1.70.0 Command: chmod a+r affyQCReport -R && C:\Users\biocbuild\bbs-3.13-bioc\R\bin\R.exe CMD build --keep-empty-dirs --no-resave-data affyQCReport StartedAt: 2021-10-14 11:36:22 -0400 (Thu, 14 Oct 2021) EndedAt: 2021-10-14 11:37:08 -0400 (Thu, 14 Oct 2021) EllapsedTime: 45.8 seconds RetCode: 1 Status: ERROR PackageFile: affyQCReport_1.70.0.tar.gz PackageFileSize: 26.65 KiB