Package: agilp Version: 3.24.0 Command: /Library/Frameworks/R.framework/Versions/Current/Resources/bin/R CMD check --install=check:agilp.install-out.txt --library=/Library/Frameworks/R.framework/Versions/Current/Resources/library --no-vignettes --timings agilp_3.24.0.tar.gz StartedAt: 2021-10-14 16:09:38 -0400 (Thu, 14 Oct 2021) EndedAt: 2021-10-14 16:10:05 -0400 (Thu, 14 Oct 2021) EllapsedTime: 27.7 seconds RetCode: 0 Status: OK CheckDir: agilp.Rcheck Warnings: 0