Package: agilp Version: 3.24.0 Command: /home/biocbuild/bbs-3.13-bioc/R/bin/R CMD check --install=check:agilp.install-out.txt --library=/home/biocbuild/bbs-3.13-bioc/R/library --no-vignettes --timings agilp_3.24.0.tar.gz StartedAt: 2021-10-14 08:49:58 -0400 (Thu, 14 Oct 2021) EndedAt: 2021-10-14 08:50:11 -0400 (Thu, 14 Oct 2021) EllapsedTime: 13.6 seconds RetCode: 0 Status: OK CheckDir: agilp.Rcheck Warnings: 0