Package: agilp Version: 3.24.0 Command: /home/biocbuild/bbs-3.13-bioc/R/bin/R CMD INSTALL agilp StartedAt: 2021-10-14 06:02:05 -0400 (Thu, 14 Oct 2021) EndedAt: 2021-10-14 06:02:16 -0400 (Thu, 14 Oct 2021) EllapsedTime: 11.8 seconds RetCode: 0 Status: OK