Package: agilp Version: 3.24.0 Command: chmod a+r agilp -R && C:\Users\biocbuild\bbs-3.13-bioc\R\bin\R.exe CMD build --keep-empty-dirs --no-resave-data agilp StartedAt: 2021-10-14 11:36:58 -0400 (Thu, 14 Oct 2021) EndedAt: 2021-10-14 11:37:56 -0400 (Thu, 14 Oct 2021) EllapsedTime: 57.8 seconds RetCode: 0 Status: OK PackageFile: agilp_3.24.0.tar.gz PackageFileSize: 410 KiB