git_url: https://git.bioconductor.org/packages/airpart git_branch: RELEASE_3_13 git_last_commit: 39ff0e5 git_last_commit_date: 2021-08-23 14:27:56 -0400 (Mon, 23 Aug 2021) Package: airpart Version: 1.0.1 Maintainer: Wancen Mu MaintainerEmail: wancen at live.unc.edu