Package: airpart Version: 1.0.1 Command: chmod a+r airpart -R && C:\Users\biocbuild\bbs-3.13-bioc\R\bin\R.exe CMD build --keep-empty-dirs --no-resave-data airpart StartedAt: 2021-10-14 11:37:25 -0400 (Thu, 14 Oct 2021) EndedAt: 2021-10-14 11:39:09 -0400 (Thu, 14 Oct 2021) EllapsedTime: 104.1 seconds RetCode: 0 Status: OK PackageFile: airpart_1.0.1.tar.gz PackageFileSize: 646.1 KiB