Package: airpart Version: 1.0.1 Command: C:\cygwin\bin\curl.exe -O http://155.52.207.165/BBS/3.13/bioc/src/contrib/airpart_1.0.1.tar.gz && rm -rf airpart.buildbin-libdir && mkdir airpart.buildbin-libdir && C:\Users\biocbuild\bbs-3.13-bioc\R\bin\R.exe CMD INSTALL --merge-multiarch --build --library=airpart.buildbin-libdir airpart_1.0.1.tar.gz && C:\Users\biocbuild\bbs-3.13-bioc\R\bin\R.exe CMD INSTALL airpart_1.0.1.zip && rm airpart_1.0.1.tar.gz airpart_1.0.1.zip StartedAt: 2021-10-14 09:20:48 -0400 (Thu, 14 Oct 2021) EndedAt: 2021-10-14 09:21:41 -0400 (Thu, 14 Oct 2021) EllapsedTime: 53.8 seconds RetCode: 0 Status: OK