Package: altcdfenvs Version: 2.54.0 Command: rm -rf altcdfenvs.buildbin-libdir && mkdir altcdfenvs.buildbin-libdir && /Users/biocbuild/BBS/utils/build-universal.sh altcdfenvs_2.54.0.tar.gz /Library/Frameworks/R.framework/Versions/Current/Resources/bin/R altcdfenvs.buildbin-libdir StartedAt: 2021-10-15 01:33:36 -0400 (Fri, 15 Oct 2021) EndedAt: 2021-10-15 01:34:46 -0400 (Fri, 15 Oct 2021) EllapsedTime: 69.8 seconds RetCode: 0 Status: OK PackageFile: altcdfenvs_2.54.0.tgz PackageFileSize: 835.9 KiB