Package: altcdfenvs Version: 2.54.0 Command: /home/biocbuild/bbs-3.13-bioc/R/bin/R CMD INSTALL altcdfenvs StartedAt: 2021-10-14 06:07:11 -0400 (Thu, 14 Oct 2021) EndedAt: 2021-10-14 06:07:24 -0400 (Thu, 14 Oct 2021) EllapsedTime: 13.1 seconds RetCode: 0 Status: OK