Package: altcdfenvs Version: 2.54.0 Command: rm -rf altcdfenvs.buildbin-libdir && mkdir altcdfenvs.buildbin-libdir && C:\Users\biocbuild\bbs-3.13-bioc\R\bin\R.exe CMD INSTALL --merge-multiarch --build --library=altcdfenvs.buildbin-libdir altcdfenvs_2.54.0.tar.gz StartedAt: 2021-10-15 07:58:31 -0400 (Fri, 15 Oct 2021) EndedAt: 2021-10-15 07:59:46 -0400 (Fri, 15 Oct 2021) EllapsedTime: 74.5 seconds RetCode: 0 Status: OK PackageFile: altcdfenvs_2.54.0.zip PackageFileSize: 866.2 KiB