Package: altcdfenvs Version: 2.54.0 Command: chmod a+r altcdfenvs -R && C:\Users\biocbuild\bbs-3.13-bioc\R\bin\R.exe CMD build --keep-empty-dirs --no-resave-data altcdfenvs StartedAt: 2021-10-14 11:38:53 -0400 (Thu, 14 Oct 2021) EndedAt: 2021-10-14 11:40:27 -0400 (Thu, 14 Oct 2021) EllapsedTime: 93.3 seconds RetCode: 0 Status: OK PackageFile: altcdfenvs_2.54.0.tar.gz PackageFileSize: 375.1 KiB