git_url: https://git.bioconductor.org/packages/animalcules git_branch: RELEASE_3_13 git_last_commit: 5a3dc66 git_last_commit_date: 2021-06-02 12:17:59 -0400 (Wed, 02 Jun 2021) Package: animalcules Version: 1.8.1 Maintainer: Yue Zhao MaintainerEmail: yuezh at bu.edu