Package: animalcules Version: 1.8.1 Command: /home/biocbuild/bbs-3.13-bioc/R/bin/R CMD build --keep-empty-dirs --no-resave-data animalcules StartedAt: 2021-10-14 06:41:38 -0400 (Thu, 14 Oct 2021) EndedAt: 2021-10-14 06:42:39 -0400 (Thu, 14 Oct 2021) EllapsedTime: 61.0 seconds RetCode: 0 Status: OK PackageFile: animalcules_1.8.1.tar.gz PackageFileSize: 3.191 MiB