Package: animalcules Version: 1.8.1 Command: /home/biocbuild/bbs-3.13-bioc/R/bin/R CMD check --install=check:animalcules.install-out.txt --library=/home/biocbuild/bbs-3.13-bioc/R/library --no-vignettes --timings animalcules_1.8.1.tar.gz StartedAt: 2021-10-14 08:51:10 -0400 (Thu, 14 Oct 2021) EndedAt: 2021-10-14 08:55:28 -0400 (Thu, 14 Oct 2021) EllapsedTime: 257.8 seconds RetCode: 0 Status: OK CheckDir: animalcules.Rcheck Warnings: 0