Package: animalcules Version: 1.8.1 Command: /home/biocbuild/bbs-3.13-bioc/R/bin/R CMD INSTALL animalcules StartedAt: 2021-10-14 06:21:47 -0400 (Thu, 14 Oct 2021) EndedAt: 2021-10-14 06:22:19 -0400 (Thu, 14 Oct 2021) EllapsedTime: 31.9 seconds RetCode: 0 Status: OK