Package: annmap Version: 1.34.0 Command: rm -rf annmap.buildbin-libdir && mkdir annmap.buildbin-libdir && /Users/biocbuild/BBS/utils/build-universal.sh annmap_1.34.0.tar.gz /Library/Frameworks/R.framework/Versions/Current/Resources/bin/R annmap.buildbin-libdir StartedAt: 2021-10-15 01:34:30 -0400 (Fri, 15 Oct 2021) EndedAt: 2021-10-15 01:35:39 -0400 (Fri, 15 Oct 2021) EllapsedTime: 69.1 seconds RetCode: 0 Status: OK PackageFile: annmap_1.34.0.tgz PackageFileSize: 1.148 MiB