Package: annmap Version: 1.34.0 Command: /Library/Frameworks/R.framework/Versions/Current/Resources/bin/R CMD build --keep-empty-dirs --no-resave-data annmap StartedAt: 2021-10-14 10:35:22 -0400 (Thu, 14 Oct 2021) EndedAt: 2021-10-14 10:36:02 -0400 (Thu, 14 Oct 2021) EllapsedTime: 40.9 seconds RetCode: 0 Status: OK PackageFile: annmap_1.34.0.tar.gz PackageFileSize: 889.7 KiB