Package: annmap Version: 1.34.0 Command: /Library/Frameworks/R.framework/Versions/Current/Resources/bin/R CMD check --install=check:annmap.install-out.txt --library=/Library/Frameworks/R.framework/Versions/Current/Resources/library --no-vignettes --timings annmap_1.34.0.tar.gz StartedAt: 2021-10-14 16:13:29 -0400 (Thu, 14 Oct 2021) EndedAt: 2021-10-14 16:19:24 -0400 (Thu, 14 Oct 2021) EllapsedTime: 355.3 seconds RetCode: 0 Status: WARNINGS CheckDir: annmap.Rcheck Warnings: 1