Package: annotationTools Version: 1.66.0 Command: /Library/Frameworks/R.framework/Versions/Current/Resources/bin/R CMD INSTALL annotationTools StartedAt: 2021-10-14 08:31:18 -0400 (Thu, 14 Oct 2021) EndedAt: 2021-10-14 08:32:03 -0400 (Thu, 14 Oct 2021) EllapsedTime: 44.6 seconds RetCode: 0 Status: OK