Package: annotationTools Version: 1.66.0 Command: /home/biocbuild/bbs-3.13-bioc/R/bin/R CMD build --keep-empty-dirs --no-resave-data annotationTools StartedAt: 2021-10-14 06:42:05 -0400 (Thu, 14 Oct 2021) EndedAt: 2021-10-14 06:42:14 -0400 (Thu, 14 Oct 2021) EllapsedTime: 9.2 seconds RetCode: 0 Status: OK PackageFile: annotationTools_1.66.0.tar.gz PackageFileSize: 326.7 KiB