Package: annotatr Version: 1.18.1 Command: rm -rf annotatr.buildbin-libdir && mkdir annotatr.buildbin-libdir && /Users/biocbuild/BBS/utils/build-universal.sh annotatr_1.18.1.tar.gz /Library/Frameworks/R.framework/Versions/Current/Resources/bin/R annotatr.buildbin-libdir StartedAt: 2021-10-15 01:35:13 -0400 (Fri, 15 Oct 2021) EndedAt: 2021-10-15 01:36:22 -0400 (Fri, 15 Oct 2021) EllapsedTime: 69.2 seconds RetCode: 0 Status: OK PackageFile: annotatr_1.18.1.tgz PackageFileSize: 2.53 MiB