Package: annotatr Version: 1.18.1 Command: /Library/Frameworks/R.framework/Versions/Current/Resources/bin/R CMD build --keep-empty-dirs --no-resave-data annotatr StartedAt: 2021-10-14 10:36:33 -0400 (Thu, 14 Oct 2021) EndedAt: 2021-10-14 10:38:56 -0400 (Thu, 14 Oct 2021) EllapsedTime: 142.2 seconds RetCode: 0 Status: OK PackageFile: annotatr_1.18.1.tar.gz PackageFileSize: 2.312 MiB