git_url: https://git.bioconductor.org/packages/anota git_branch: RELEASE_3_13 git_last_commit: ef88b0a git_last_commit_date: 2021-05-19 11:48:32 -0400 (Wed, 19 May 2021) Package: anota Version: 1.40.0 Maintainer: Ola Larsson MaintainerEmail: ola.larsson at ki.se