Package: appreci8R Version: 1.10.0 Command: /Library/Frameworks/R.framework/Versions/Current/Resources/bin/R CMD INSTALL appreci8R StartedAt: 2021-10-14 10:08:39 -0400 (Thu, 14 Oct 2021) EndedAt: 2021-10-14 10:10:01 -0400 (Thu, 14 Oct 2021) EllapsedTime: 82.2 seconds RetCode: 0 Status: OK