Package: appreci8R Version: 1.10.0 Command: /home/biocbuild/bbs-3.13-bioc/R/bin/R CMD check --install=check:appreci8R.install-out.txt --library=/home/biocbuild/bbs-3.13-bioc/R/library --no-vignettes --timings appreci8R_1.10.0.tar.gz StartedAt: 2021-10-14 08:52:51 -0400 (Thu, 14 Oct 2021) EndedAt: 2021-10-14 08:57:44 -0400 (Thu, 14 Oct 2021) EllapsedTime: 293.4 seconds RetCode: 0 Status: OK CheckDir: appreci8R.Rcheck Warnings: 0