Package: appreci8R Version: 1.10.0 Command: /home/biocbuild/bbs-3.13-bioc/R/bin/R CMD INSTALL appreci8R StartedAt: 2021-10-14 06:29:10 -0400 (Thu, 14 Oct 2021) EndedAt: 2021-10-14 06:30:16 -0400 (Thu, 14 Oct 2021) EllapsedTime: 66.4 seconds RetCode: 0 Status: OK