Package: appreci8R Version: 1.10.0 Command: C:\cygwin\bin\curl.exe -O http://155.52.207.165/BBS/3.13/bioc/src/contrib/appreci8R_1.10.0.tar.gz && rm -rf appreci8R.buildbin-libdir && mkdir appreci8R.buildbin-libdir && C:\Users\biocbuild\bbs-3.13-bioc\R\bin\R.exe CMD INSTALL --merge-multiarch --build --library=appreci8R.buildbin-libdir appreci8R_1.10.0.tar.gz && C:\Users\biocbuild\bbs-3.13-bioc\R\bin\R.exe CMD INSTALL appreci8R_1.10.0.zip && rm appreci8R_1.10.0.tar.gz appreci8R_1.10.0.zip StartedAt: 2021-10-14 10:45:16 -0400 (Thu, 14 Oct 2021) EndedAt: 2021-10-14 10:47:36 -0400 (Thu, 14 Oct 2021) EllapsedTime: 140.4 seconds RetCode: 0 Status: OK