Package: artMS Version: 1.10.2 Command: rm -rf artMS.buildbin-libdir && mkdir artMS.buildbin-libdir && /Users/biocbuild/BBS/utils/build-universal.sh artMS_1.10.2.tar.gz /Library/Frameworks/R.framework/Versions/Current/Resources/bin/R artMS.buildbin-libdir StartedAt: 2021-10-15 01:36:49 -0400 (Fri, 15 Oct 2021) EndedAt: 2021-10-15 01:37:54 -0400 (Fri, 15 Oct 2021) EllapsedTime: 65.5 seconds RetCode: 0 Status: OK PackageFile: artMS_1.10.2.tgz PackageFileSize: 3.18 MiB