Package: awst Version: 1.0.0 Command: /Library/Frameworks/R.framework/Versions/Current/Resources/bin/R CMD build --keep-empty-dirs --no-resave-data awst StartedAt: 2021-10-14 10:40:59 -0400 (Thu, 14 Oct 2021) EndedAt: 2021-10-14 10:41:49 -0400 (Thu, 14 Oct 2021) EllapsedTime: 50.1 seconds RetCode: 0 Status: OK PackageFile: awst_1.0.0.tar.gz PackageFileSize: 361.6 KiB