Package: awst Version: 1.0.0 Command: /home/biocbuild/bbs-3.13-bioc/R/bin/R CMD INSTALL awst StartedAt: 2021-10-14 06:15:33 -0400 (Thu, 14 Oct 2021) EndedAt: 2021-10-14 06:15:49 -0400 (Thu, 14 Oct 2021) EllapsedTime: 15.3 seconds RetCode: 0 Status: OK