Package: awst Version: 1.0.0 Command: chmod a+r awst -R && C:\Users\biocbuild\bbs-3.13-bioc\R\bin\R.exe CMD build --keep-empty-dirs --no-resave-data awst StartedAt: 2021-10-14 11:50:58 -0400 (Thu, 14 Oct 2021) EndedAt: 2021-10-14 11:52:31 -0400 (Thu, 14 Oct 2021) EllapsedTime: 92.1 seconds RetCode: 0 Status: OK PackageFile: awst_1.0.0.tar.gz PackageFileSize: 319 KiB