Package: basilisk.utils Version: 1.4.0 Command: rm -rf basilisk.utils.buildbin-libdir && mkdir basilisk.utils.buildbin-libdir && /Users/biocbuild/BBS/utils/build-universal.sh basilisk.utils_1.4.0.tar.gz /Library/Frameworks/R.framework/Versions/Current/Resources/bin/R basilisk.utils.buildbin-libdir StartedAt: 2021-10-15 01:39:58 -0400 (Fri, 15 Oct 2021) EndedAt: 2021-10-15 01:40:59 -0400 (Fri, 15 Oct 2021) EllapsedTime: 61.9 seconds RetCode: 0 Status: OK PackageFile: basilisk.utils_1.4.0.tgz PackageFileSize: 273.4 KiB