Package: basilisk.utils Version: 1.4.0 Command: /Library/Frameworks/R.framework/Versions/Current/Resources/bin/R CMD build --keep-empty-dirs --no-resave-data basilisk.utils StartedAt: 2021-10-14 10:43:53 -0400 (Thu, 14 Oct 2021) EndedAt: 2021-10-14 10:44:01 -0400 (Thu, 14 Oct 2021) EllapsedTime: 7.8 seconds RetCode: 0 Status: OK PackageFile: basilisk.utils_1.4.0.tar.gz PackageFileSize: 231.5 KiB