Package: basilisk.utils Version: 1.4.0 Command: /home/biocbuild/bbs-3.13-bioc/R/bin/R CMD build --keep-empty-dirs --no-resave-data basilisk.utils StartedAt: 2021-10-14 06:44:49 -0400 (Thu, 14 Oct 2021) EndedAt: 2021-10-14 06:44:52 -0400 (Thu, 14 Oct 2021) EllapsedTime: 2.9 seconds RetCode: 0 Status: OK PackageFile: basilisk.utils_1.4.0.tar.gz PackageFileSize: 231.5 KiB