Package: basilisk.utils Version: 1.4.0 Command: /home/biocbuild/bbs-3.13-bioc/R/bin/R CMD check --install=check:basilisk.utils.install-out.txt --library=/home/biocbuild/bbs-3.13-bioc/R/library --no-vignettes --timings basilisk.utils_1.4.0.tar.gz StartedAt: 2021-10-14 08:56:42 -0400 (Thu, 14 Oct 2021) EndedAt: 2021-10-14 08:56:59 -0400 (Thu, 14 Oct 2021) EllapsedTime: 16.8 seconds RetCode: 0 Status: OK CheckDir: basilisk.utils.Rcheck Warnings: 0