Package: basilisk.utils Version: 1.4.0 Command: /home/biocbuild/bbs-3.13-bioc/R/bin/R CMD INSTALL basilisk.utils StartedAt: 2021-10-14 06:03:58 -0400 (Thu, 14 Oct 2021) EndedAt: 2021-10-14 06:04:12 -0400 (Thu, 14 Oct 2021) EllapsedTime: 14.3 seconds RetCode: 0 Status: OK