Package: basilisk.utils Version: 1.4.0 Command: chmod a+r basilisk.utils -R && C:\Users\biocbuild\bbs-3.13-bioc\R\bin\R.exe CMD build --keep-empty-dirs --no-resave-data basilisk.utils StartedAt: 2021-10-14 11:55:30 -0400 (Thu, 14 Oct 2021) EndedAt: 2021-10-14 11:56:02 -0400 (Thu, 14 Oct 2021) EllapsedTime: 31.8 seconds RetCode: 0 Status: OK PackageFile: basilisk.utils_1.4.0.tar.gz PackageFileSize: 231.5 KiB