Package: beachmat Version: 2.8.1 Command: chmod a+r beachmat -R && C:\Users\biocbuild\bbs-3.13-bioc\R\bin\R.exe CMD build --keep-empty-dirs --no-resave-data beachmat StartedAt: 2021-10-14 11:57:31 -0400 (Thu, 14 Oct 2021) EndedAt: 2021-10-14 11:59:26 -0400 (Thu, 14 Oct 2021) EllapsedTime: 115.5 seconds RetCode: 0 Status: OK PackageFile: beachmat_2.8.1.tar.gz PackageFileSize: 1.183 MiB