Package: beadarraySNP Version: 1.58.0 Command: rm -rf beadarraySNP.buildbin-libdir && mkdir beadarraySNP.buildbin-libdir && C:\Users\biocbuild\bbs-3.13-bioc\R\bin\R.exe CMD INSTALL --merge-multiarch --build --library=beadarraySNP.buildbin-libdir beadarraySNP_1.58.0.tar.gz StartedAt: 2021-10-15 08:10:21 -0400 (Fri, 15 Oct 2021) EndedAt: 2021-10-15 08:11:27 -0400 (Fri, 15 Oct 2021) EllapsedTime: 65.8 seconds RetCode: 0 Status: OK PackageFile: beadarraySNP_1.58.0.zip PackageFileSize: 1.045 MiB