Package: bgx Version: 1.58.0 Command: rm -rf bgx.buildbin-libdir && mkdir bgx.buildbin-libdir && /Users/biocbuild/BBS/utils/build-universal.sh bgx_1.58.0.tar.gz /Library/Frameworks/R.framework/Versions/Current/Resources/bin/R bgx.buildbin-libdir StartedAt: 2021-10-15 01:41:53 -0400 (Fri, 15 Oct 2021) EndedAt: 2021-10-15 01:43:02 -0400 (Fri, 15 Oct 2021) EllapsedTime: 69.6 seconds RetCode: 0 Status: OK PackageFile: bgx_1.58.0.tgz PackageFileSize: 294.8 KiB